BEGIN:VCALENDAR
VERSION:2.0
PRODID:-//ChamberMaster//Event Calendar 2.0//EN
METHOD:PUBLISH
X-PUBLISHED-TTL:P1H
REFRESH-INTERVAL:P1H
CALSCALE:GREGORIAN
BEGIN:VTIMEZONE
TZID:America/Chicago
BEGIN:DAYLIGHT
RRULE:FREQ=YEARLY;BYMONTH=3;BYDAY=2SU
DTSTART:20070101T000000
TZOFFSETFROM:-0600
TZOFFSETTO:-0500
TZNAME:Central Daylight Time
END:DAYLIGHT
BEGIN:STANDARD
RRULE:FREQ=YEARLY;BYMONTH=11;BYDAY=1SU
DTSTART:20070101T000000
TZOFFSETFROM:-0500
TZOFFSETTO:-0600
TZNAME:Central Standard Time
END:STANDARD
END:VTIMEZONE
BEGIN:VEVENT
DTSTART;TZID=America/Chicago:20260502T090000
DTEND;TZID=America/Chicago:20260502T150000
X-MICROSOFT-CDO-ALLDAYEVENT:FALSE
SUMMARY:STAND Safety Summit
DESCRIPTION:STAND Safety Summit is a one-day community safety conference hosted by the Burleson Police Department. STAND brings together experts\, community leaders and resource partners to address some of the most pressing issues affecting families and communities today.Topics will include internet and app safety\, fentanyl awareness\, human trafficking awareness and family and dating violence prevention. Attendees will hear from trusted speakers\, connect with local community resource partners and walk away with practical tools\, current information and life-saving resources.This event is designed for parents\, educators\, church leaders\, community organizations\, businesses and anyone who wants to better understand today's safety challenges and how to respond to them.
X-ALT-DESC;FMTTYPE=text/html:<!DOCTYPE html><html><head><title></title></head><body aria-disabled="false"><p data-end="336" data-start="59">STAND Safety Summit is a one-day community safety conference hosted by the Burleson Police Department. STAND brings together experts\, community leaders and resource partners to address some of the most pressing issues affecting families and communities today.</p><p data-end="646" data-start="338">Topics will include internet and app safety\, fentanyl awareness\, human trafficking awareness and family and dating violence prevention. Attendees will hear from trusted speakers\, connect with local community resource partners and walk away with practical tools\, current information and life-saving resources.</p><p data-end="842" data-start="648">This event is designed for parents\, educators\, church leaders\, community organizations\, businesses and anyone who wants to better understand today&rsquo\;s safety challenges and how to respond to them.</p></body></html>
LOCATION:
UID:e.2173.1445859
SEQUENCE:3
DTSTAMP:20260422T144216Z
URL:https://business.burlesonchamber.com/events/Details/stand-safety-summit-1712510?sourceTypeId=Hub
END:VEVENT
END:VCALENDAR
